BEGIN:VCALENDAR
VERSION:2.0
BEGIN:VEVENT
DTSTART:20210523T233000Z
DTEND:20210525T063000Z
SUMMARY:Solution Focused Leadership — Sydney
DESCRIPTION:Skills for highly effective organisations — presented jointly with Compass Seminars Australia.
LOCATION:Adina Apartment Hotel Surry Hills, 359 Crown Street, Surry Hills, NSW, 2010
END:VEVENT
END:VCALENDAR