BEGIN:VCALENDAR
VERSION:2.0
BEGIN:VEVENT
DTSTART:20210725T230000Z
DTEND:20210727T060000Z
SUMMARY:Solution-Focused Brief Therapy — Toowoomba
DESCRIPTION:The popular course, Solution-Focused Brief Therapy, presented by Michael Durrant but conducted by Compass Seminars Australia.
LOCATION:City Golf Club, 254 South St, Toowoomba, QLD, 4350
END:VEVENT
END:VCALENDAR