BEGIN:VCALENDAR
VERSION:2.0
BEGIN:VEVENT
DTSTART:20211122T010000Z
DTEND:20211123T080000Z
SUMMARY:Solution-Focused Brief Therapy — Perth
DESCRIPTION:The popular course, Solution-Focused Brief Therapy, presented by Michael Durrant but conducted by Compass Seminars Australia.
LOCATION:ANZAC House, Level 5/30 St George's Terrace, Perth, WA, 6000
END:VEVENT
END:VCALENDAR