BEGIN:VCALENDAR
VERSION:2.0
BEGIN:VEVENT
DTSTART:20211027T223000Z
DTEND:20211029T051500Z
SUMMARY:Solution-Focused Brief Therapy — Sydney
DESCRIPTION:This 'flag-ship' course is a comprehensive introduction to Solution Focused Practice for practitioners in various settings. Thought-provoking and inspiring, the course offers a PROVEN approach that is effective for mental health problems, trauma, disruptive behaviour, substance use  and many other social and emotional problems in counselling/therapy and in broader coaching and school settings.
LOCATION:Holiday Inn Parramatta,  18 – 40 Anderson Street,  Parramatta,  NSW,  2150, Holiday Inn Parramatta, 18 – 40 Anderson Street, Parramatta, NSW, 2150
END:VEVENT
END:VCALENDAR