BEGIN:VCALENDAR
VERSION:2.0
BEGIN:VEVENT
DTSTART:20210426T233000Z
DTEND:20210428T061500Z
SUMMARY:Solution-Focused Brief Therapy — Orange
DESCRIPTION:The 'flag-ship' course is a comprehensive introduction to Solution Focused Practice for practitioners in various settings. Thought-provoking and inspiring, the course offers a PROVEN approach that is effective for mental health problems, trauma, disruptive behaviour, substance use  and many other social and emotional problems in counselling/therapy and in broader coaching and school settings.
LOCATION:Central Caleula Motor Lodge, 60 Summer St, Orange, NSW, 2800
END:VEVENT
END:VCALENDAR