BEGIN:VCALENDAR
VERSION:2.0
BEGIN:VEVENT
DTSTART:20211128T220000Z
DTEND:20211130T050000Z
SUMMARY:Solution-Focused Brief Therapy — Newcastle
DESCRIPTION:The popular course, Solution-Focused Brief Therapy, presented by Michael Durrant but conducted by Compass Seminars Australia.
LOCATION:Travelodge Newcastle, 12 Steel St, Newcastle West, NSW, 2302
END:VEVENT
END:VCALENDAR