BEGIN:VCALENDAR
VERSION:2.0
BEGIN:VEVENT
DTSTART:20210829T233000Z
DTEND:20210831T061500Z
SUMMARY:Solution-Focused Brief Therapy — Melbourne
DESCRIPTION:This 'flag-ship' course is a comprehensive introduction to Solution Focused Practice for practitioners in various settings. Thought-provoking and inspiring, the course offers a PROVEN approach that is effective for mental health problems, trauma, disruptive behaviour, substance use  and many other social and emotional problems in counselling/therapy and in broader coaching and school settings.
LOCATION:Holiday Inn on Flinders,  575 Flinders Lane,  (cnr Spencer St),  Melbourne,  VIC,  3000, Holiday Inn on Flinders, 575 Flinders Lane, (cnr Spencer St), Melbourne, VIC, 3000
END:VEVENT
END:VCALENDAR