BEGIN:VCALENDAR
VERSION:2.0
BEGIN:VEVENT
DTSTART:20210727T230000Z
DTEND:20210729T060000Z
SUMMARY:Solution-Focused Brief Therapy — Brisbane
DESCRIPTION:The popular course, Solution-Focused Brief Therapy, presented by Michael Durrant but conducted by Compass Seminars Australia.
LOCATION:Best Western Plus North Lakes Hotel, 22 Lakefield Drive, North Lakes, QLD, 4509
END:VEVENT
END:VCALENDAR