BEGIN:VCALENDAR
VERSION:2.0
BEGIN:VEVENT
DTSTART:20210330T230000Z
DTEND:20210401T054500Z
SUMMARY:Solution-Focused Brief Therapy — Adelaide
DESCRIPTION:This 'flag-ship' course is a comprehensive introduction to Solution Focused Practice for practitioners in various settings. Thought-provoking and inspiring, the course offers a PROVEN approach that is effective for mental health problems, trauma, disruptive behaviour, substance use  and many other social and emotional problems in counselling/therapy and in broader coaching and school settings.
LOCATION:Mercure Grosvenor Hotel,  18 – 40 Anderson Street,  125 North Terrace,  Adelaide,  SA,  5000, Mercure Grosvenor Hotel, 18 – 40 Anderson Street, 125 North Terrace, Adelaide, SA, 5000
END:VEVENT
END:VCALENDAR